BEGIN:VCALENDAR
VERSION:2.0
PRODID:-//Summit Christian University - ECPv6.15.20//NONSGML v1.0//EN
CALSCALE:GREGORIAN
METHOD:PUBLISH
X-WR-CALNAME:Summit Christian University
X-ORIGINAL-URL:https://summitchristianu.org
X-WR-CALDESC:Events for Summit Christian University
REFRESH-INTERVAL;VALUE=DURATION:PT1H
X-Robots-Tag:noindex
X-PUBLISHED-TTL:PT1H
BEGIN:VTIMEZONE
TZID:America/New_York
BEGIN:DAYLIGHT
TZOFFSETFROM:-0500
TZOFFSETTO:-0400
TZNAME:EDT
DTSTART:20250309T070000
END:DAYLIGHT
BEGIN:STANDARD
TZOFFSETFROM:-0400
TZOFFSETTO:-0500
TZNAME:EST
DTSTART:20251102T060000
END:STANDARD
BEGIN:DAYLIGHT
TZOFFSETFROM:-0500
TZOFFSETTO:-0400
TZNAME:EDT
DTSTART:20260308T070000
END:DAYLIGHT
BEGIN:STANDARD
TZOFFSETFROM:-0400
TZOFFSETTO:-0500
TZNAME:EST
DTSTART:20261101T060000
END:STANDARD
BEGIN:DAYLIGHT
TZOFFSETFROM:-0500
TZOFFSETTO:-0400
TZNAME:EDT
DTSTART:20270314T070000
END:DAYLIGHT
BEGIN:STANDARD
TZOFFSETFROM:-0400
TZOFFSETTO:-0500
TZNAME:EST
DTSTART:20271107T060000
END:STANDARD
END:VTIMEZONE
BEGIN:VEVENT
DTSTART;TZID=America/New_York:20260423T180000
DTEND;TZID=America/New_York:20260423T220000
DTSTAMP:20260423T085454
CREATED:20260219T174954Z
LAST-MODIFIED:20260219T174954Z
UID:4157-1776967200-1776981600@summitchristianu.org
SUMMARY:BIB 210 (New Testament) Online
DESCRIPTION:
URL:https://summitchristianu.org/event/bib-210-new-testament-online-5/
LOCATION:Summit Christian University\, 3313 State Route 303\, Mayfield\, KY\, 42066\, United States
END:VEVENT
BEGIN:VEVENT
DTSTART;TZID=America/New_York:20260427T180000
DTEND;TZID=America/New_York:20260427T220000
DTSTAMP:20260423T085454
CREATED:20260312T162341Z
LAST-MODIFIED:20260312T162743Z
UID:4215-1777312800-1777327200@summitchristianu.org
SUMMARY:BIB230 - Biblical Theology
DESCRIPTION:
URL:https://summitchristianu.org/event/bib230-bible-theology-3/
LOCATION:Heartland Church\, 4777 Alben Barkley Dr.\, KY\, 42001\, United States
END:VEVENT
BEGIN:VEVENT
DTSTART;TZID=America/New_York:20260430T180000
DTEND;TZID=America/New_York:20260430T220000
DTSTAMP:20260423T085454
CREATED:20260312T163058Z
LAST-MODIFIED:20260312T163058Z
UID:4228-1777572000-1777586400@summitchristianu.org
SUMMARY:PSY210 - Intro to Psychology
DESCRIPTION:
URL:https://summitchristianu.org/event/psy210-intro-to-psychology/
LOCATION:Summit Christian University\, 3313 State Route 303\, Mayfield\, KY\, 42066\, United States
END:VEVENT
BEGIN:VEVENT
DTSTART;TZID=America/New_York:20260504T180000
DTEND;TZID=America/New_York:20260504T220000
DTSTAMP:20260423T085454
CREATED:20260312T162502Z
LAST-MODIFIED:20260312T162720Z
UID:4217-1777917600-1777932000@summitchristianu.org
SUMMARY:BIB230 - Biblical Theology
DESCRIPTION:
URL:https://summitchristianu.org/event/bib230-bible-theology-4/
LOCATION:Heartland Church\, 4777 Alben Barkley Dr.\, KY\, 42001\, United States
END:VEVENT
BEGIN:VEVENT
DTSTART;TZID=America/New_York:20260507T180000
DTEND;TZID=America/New_York:20260507T220000
DTSTAMP:20260423T085454
CREATED:20260312T163237Z
LAST-MODIFIED:20260312T163415Z
UID:4230-1778176800-1778191200@summitchristianu.org
SUMMARY:PSY210 - Intro to Psychology
DESCRIPTION:
URL:https://summitchristianu.org/event/psy210-intro-to-psychology-2/
LOCATION:Summit Christian University\, 3313 State Route 303\, Mayfield\, KY\, 42066\, United States
END:VEVENT
BEGIN:VEVENT
DTSTART;TZID=America/New_York:20260511T180000
DTEND;TZID=America/New_York:20260511T220000
DTSTAMP:20260423T085454
CREATED:20260312T162607Z
LAST-MODIFIED:20260312T162643Z
UID:4219-1778522400-1778536800@summitchristianu.org
SUMMARY:BIB230 - Biblical Theology
DESCRIPTION:
URL:https://summitchristianu.org/event/bib230-bible-theology-5/
LOCATION:Heartland Church\, 4777 Alben Barkley Dr.\, KY\, 42001\, United States
END:VEVENT
BEGIN:VEVENT
DTSTART;TZID=America/New_York:20260514T180000
DTEND;TZID=America/New_York:20260514T220000
DTSTAMP:20260423T085454
CREATED:20260312T163335Z
LAST-MODIFIED:20260312T163335Z
UID:4232-1778781600-1778796000@summitchristianu.org
SUMMARY:PSY210 - Intro to Psychology
DESCRIPTION:
URL:https://summitchristianu.org/event/psy210-intro-to-psychology-3/
LOCATION:Summit Christian University\, 3313 State Route 303\, Mayfield\, KY\, 42066\, United States
END:VEVENT
BEGIN:VEVENT
DTSTART;TZID=America/New_York:20260518T180000
DTEND;TZID=America/New_York:20260518T220000
DTSTAMP:20260423T085454
CREATED:20260312T162938Z
LAST-MODIFIED:20260312T162938Z
UID:4226-1779127200-1779141600@summitchristianu.org
SUMMARY:BIB230 - Biblical Theology
DESCRIPTION:
URL:https://summitchristianu.org/event/bib230-biblical-theology/
LOCATION:Heartland Church\, 4777 Alben Barkley Dr.\, KY\, 42001\, United States
END:VEVENT
BEGIN:VEVENT
DTSTART;TZID=America/New_York:20260521T180000
DTEND;TZID=America/New_York:20260521T220000
DTSTAMP:20260423T085454
CREATED:20260312T163501Z
LAST-MODIFIED:20260312T163501Z
UID:4234-1779386400-1779400800@summitchristianu.org
SUMMARY:PSY210 - Intro to Psychology
DESCRIPTION:
URL:https://summitchristianu.org/event/psy210-intro-to-psychology-4/
LOCATION:Summit Christian University\, 3313 State Route 303\, Mayfield\, KY\, 42066\, United States
END:VEVENT
BEGIN:VEVENT
DTSTART;VALUE=DATE:20260525
DTEND;VALUE=DATE:20260526
DTSTAMP:20260423T085454
CREATED:20260312T163637Z
LAST-MODIFIED:20260312T163637Z
UID:4239-1779667200-1779753599@summitchristianu.org
SUMMARY:Memorial Day - Offices Closed
DESCRIPTION:
URL:https://summitchristianu.org/event/memorial-day-offices-closed/
LOCATION:KY
END:VEVENT
BEGIN:VEVENT
DTSTART;VALUE=DATE:20260528
DTEND;VALUE=DATE:20260529
DTSTAMP:20260423T085454
CREATED:20260312T163737Z
LAST-MODIFIED:20260312T163737Z
UID:4241-1779926400-1780012799@summitchristianu.org
SUMMARY:Spring Semester Ends
DESCRIPTION:
URL:https://summitchristianu.org/event/spring-semester-ends/
LOCATION:KY
END:VEVENT
BEGIN:VEVENT
DTSTART;TZID=America/New_York:20260528T180000
DTEND;TZID=America/New_York:20260528T220000
DTSTAMP:20260423T085454
CREATED:20260312T163549Z
LAST-MODIFIED:20260312T163549Z
UID:4237-1779991200-1780005600@summitchristianu.org
SUMMARY:PSY210 - Intro to Psychology
DESCRIPTION:
URL:https://summitchristianu.org/event/psy210-intro-to-psychology-5/
LOCATION:Summit Christian University\, 3313 State Route 303\, Mayfield\, KY\, 42066\, United States
END:VEVENT
BEGIN:VEVENT
DTSTART;VALUE=DATE:20260602
DTEND;VALUE=DATE:20260603
DTSTAMP:20260423T085454
CREATED:20260312T163843Z
LAST-MODIFIED:20260312T163843Z
UID:4243-1780358400-1780444799@summitchristianu.org
SUMMARY:Summer Session Begins
DESCRIPTION:
URL:https://summitchristianu.org/event/summer-session-begins/
LOCATION:KY
END:VEVENT
BEGIN:VEVENT
DTSTART;TZID=America/New_York:20260604T180000
DTEND;TZID=America/New_York:20260604T220000
DTSTAMP:20260423T085454
CREATED:20260312T164039Z
LAST-MODIFIED:20260312T164039Z
UID:4247-1780596000-1780610400@summitchristianu.org
SUMMARY:BIB230 - Biblical Theology (Online)
DESCRIPTION:
URL:https://summitchristianu.org/event/bib230-biblical-theology-online/
LOCATION:Summit Christian University\, 3313 State Route 303\, Mayfield\, KY\, 42066\, United States
END:VEVENT
BEGIN:VEVENT
DTSTART;TZID=America/New_York:20260611T180000
DTEND;TZID=America/New_York:20260611T220000
DTSTAMP:20260423T085454
CREATED:20260312T164122Z
LAST-MODIFIED:20260312T164122Z
UID:4249-1781200800-1781215200@summitchristianu.org
SUMMARY:BIB230 - Biblical Theology (Online)
DESCRIPTION:
URL:https://summitchristianu.org/event/bib230-biblical-theology-online-2/
LOCATION:Summit Christian University\, 3313 State Route 303\, Mayfield\, KY\, 42066\, United States
END:VEVENT
BEGIN:VEVENT
DTSTART;TZID=America/New_York:20260618T180000
DTEND;TZID=America/New_York:20260618T220000
DTSTAMP:20260423T085454
CREATED:20260312T164205Z
LAST-MODIFIED:20260312T164205Z
UID:4251-1781805600-1781820000@summitchristianu.org
SUMMARY:BIB230 - Biblical Theology (Online)
DESCRIPTION:
URL:https://summitchristianu.org/event/bib230-biblical-theology-online-3/
LOCATION:Summit Christian University\, 3313 State Route 303\, Mayfield\, KY\, 42066\, United States
END:VEVENT
BEGIN:VEVENT
DTSTART;TZID=America/New_York:20260625T180000
DTEND;TZID=America/New_York:20260625T220000
DTSTAMP:20260423T085454
CREATED:20260312T164249Z
LAST-MODIFIED:20260312T164249Z
UID:4253-1782410400-1782424800@summitchristianu.org
SUMMARY:BIB230 - Biblical Theology (Online)
DESCRIPTION:
URL:https://summitchristianu.org/event/bib230-biblical-theology-online-4/
LOCATION:Summit Christian University\, 3313 State Route 303\, Mayfield\, KY\, 42066\, United States
END:VEVENT
BEGIN:VEVENT
DTSTART;VALUE=DATE:20260702
DTEND;VALUE=DATE:20260703
DTSTAMP:20260423T085454
CREATED:20260312T163923Z
LAST-MODIFIED:20260312T163923Z
UID:4245-1782950400-1783036799@summitchristianu.org
SUMMARY:Summer Session Ends
DESCRIPTION:
URL:https://summitchristianu.org/event/summer-session-ends/
LOCATION:KY
END:VEVENT
BEGIN:VEVENT
DTSTART;TZID=America/New_York:20260702T180000
DTEND;TZID=America/New_York:20260702T220000
DTSTAMP:20260423T085454
CREATED:20260312T164339Z
LAST-MODIFIED:20260312T164339Z
UID:4255-1783015200-1783029600@summitchristianu.org
SUMMARY:BIB230 - Biblical Theology (Online)
DESCRIPTION:
URL:https://summitchristianu.org/event/bib230-biblical-theology-online-5/
LOCATION:Summit Christian University\, 3313 State Route 303\, Mayfield\, KY\, 42066\, United States
END:VEVENT
BEGIN:VEVENT
DTSTART;VALUE=DATE:20260703
DTEND;VALUE=DATE:20260714
DTSTAMP:20260423T085454
CREATED:20260312T164505Z
LAST-MODIFIED:20260312T164517Z
UID:4257-1783036800-1783987199@summitchristianu.org
SUMMARY:Summer Break - Offices Closed July 3 - July 13
DESCRIPTION:
URL:https://summitchristianu.org/event/summer-break-begins-offices-closed-july-3-july-13/
LOCATION:Summit Christian University\, 3313 State Route 303\, Mayfield\, KY\, 42066\, United States
END:VEVENT
BEGIN:VEVENT
DTSTART;VALUE=DATE:20260714
DTEND;VALUE=DATE:20260715
DTSTAMP:20260423T085454
CREATED:20260312T164657Z
LAST-MODIFIED:20260312T164657Z
UID:4260-1783987200-1784073599@summitchristianu.org
SUMMARY:Fall Orientation for Students/Classes
DESCRIPTION:
URL:https://summitchristianu.org/event/fall-orientation-for-students-classes/
LOCATION:Summit Christian University\, 3313 State Route 303\, Mayfield\, KY\, 42066\, United States
END:VEVENT
BEGIN:VEVENT
DTSTART;VALUE=DATE:20260720
DTEND;VALUE=DATE:20260721
DTSTAMP:20260423T085454
CREATED:20260312T164732Z
LAST-MODIFIED:20260312T164732Z
UID:4262-1784505600-1784591999@summitchristianu.org
SUMMARY:Fall Semester Begins
DESCRIPTION:
URL:https://summitchristianu.org/event/fall-semester-begins/
LOCATION:Summit Christian University\, 3313 State Route 303\, Mayfield\, KY\, 42066\, United States
END:VEVENT
END:VCALENDAR