BEGIN:VCALENDAR
VERSION:2.0
PRODID:-//Summit Christian University - ECPv6.15.20//NONSGML v1.0//EN
CALSCALE:GREGORIAN
METHOD:PUBLISH
X-WR-CALNAME:Summit Christian University
X-ORIGINAL-URL:https://summitchristianu.org
X-WR-CALDESC:Events for Summit Christian University
REFRESH-INTERVAL;VALUE=DURATION:PT1H
X-Robots-Tag:noindex
X-PUBLISHED-TTL:PT1H
BEGIN:VTIMEZONE
TZID:America/New_York
BEGIN:DAYLIGHT
TZOFFSETFROM:-0500
TZOFFSETTO:-0400
TZNAME:EDT
DTSTART:20250309T070000
END:DAYLIGHT
BEGIN:STANDARD
TZOFFSETFROM:-0400
TZOFFSETTO:-0500
TZNAME:EST
DTSTART:20251102T060000
END:STANDARD
BEGIN:DAYLIGHT
TZOFFSETFROM:-0500
TZOFFSETTO:-0400
TZNAME:EDT
DTSTART:20260308T070000
END:DAYLIGHT
BEGIN:STANDARD
TZOFFSETFROM:-0400
TZOFFSETTO:-0500
TZNAME:EST
DTSTART:20261101T060000
END:STANDARD
BEGIN:DAYLIGHT
TZOFFSETFROM:-0500
TZOFFSETTO:-0400
TZNAME:EDT
DTSTART:20270314T070000
END:DAYLIGHT
BEGIN:STANDARD
TZOFFSETFROM:-0400
TZOFFSETTO:-0500
TZNAME:EST
DTSTART:20271107T060000
END:STANDARD
END:VTIMEZONE
BEGIN:VEVENT
DTSTART;TZID=America/New_York:20260416T180000
DTEND;TZID=America/New_York:20260416T220000
DTSTAMP:20260423T170609
CREATED:20260219T174909Z
LAST-MODIFIED:20260219T174909Z
UID:4155-1776362400-1776376800@summitchristianu.org
SUMMARY:BIB 210 (New Testament) Online
DESCRIPTION:
URL:https://summitchristianu.org/event/bib-210-new-testament-online-4/
LOCATION:Summit Christian University\, 3313 State Route 303\, Mayfield\, KY\, 42066\, United States
END:VEVENT
BEGIN:VEVENT
DTSTART;TZID=America/New_York:20260413T180000
DTEND;TZID=America/New_York:20260413T220000
DTSTAMP:20260423T170609
CREATED:20260312T161721Z
LAST-MODIFIED:20260312T162832Z
UID:4211-1776103200-1776117600@summitchristianu.org
SUMMARY:BIB230 - Biblical Theology
DESCRIPTION:
URL:https://summitchristianu.org/event/bib230-bible-theology/
LOCATION:Heartland Church\, 4777 Alben Barkley Dr.\, KY\, 42001\, United States
END:VEVENT
BEGIN:VEVENT
DTSTART;VALUE=DATE:20260406
DTEND;VALUE=DATE:20260411
DTSTAMP:20260423T170609
CREATED:20260219T174757Z
LAST-MODIFIED:20260219T174757Z
UID:4153-1775433600-1775865599@summitchristianu.org
SUMMARY:Spring Break
DESCRIPTION:
URL:https://summitchristianu.org/event/spring-break/
LOCATION:Summit Christian University\, 3313 State Route 303\, Mayfield\, KY\, 42066\, United States
END:VEVENT
BEGIN:VEVENT
DTSTART;VALUE=DATE:20260403
DTEND;VALUE=DATE:20260404
DTSTAMP:20260423T170609
CREATED:20260219T173902Z
LAST-MODIFIED:20260219T174041Z
UID:4139-1775174400-1775260799@summitchristianu.org
SUMMARY:Good Friday - Office Closed
DESCRIPTION:
URL:https://summitchristianu.org/event/founders-day-2016/
LOCATION:Summit Christian University\, 3313 State Route 303\, Mayfield\, KY\, 42066\, United States
END:VEVENT
BEGIN:VEVENT
DTSTART;TZID=America/New_York:20260402T180000
DTEND;TZID=America/New_York:20260402T220000
DTSTAMP:20260423T170609
CREATED:20260219T174650Z
LAST-MODIFIED:20260219T174650Z
UID:4151-1775152800-1775167200@summitchristianu.org
SUMMARY:BIB 210 (New Testament) Online
DESCRIPTION:
URL:https://summitchristianu.org/event/bib-210-new-testament-online-3/
LOCATION:Summit Christian University\, 3313 State Route 303\, Mayfield\, KY\, 42066\, United States
END:VEVENT
BEGIN:VEVENT
DTSTART;VALUE=DATE:20260327
DTEND;VALUE=DATE:20260328
DTSTAMP:20260423T170609
CREATED:20260219T174125Z
LAST-MODIFIED:20260219T174125Z
UID:4143-1774569600-1774655999@summitchristianu.org
SUMMARY:Founder's Day
DESCRIPTION:
URL:https://summitchristianu.org/event/founders-day/
LOCATION:Summit Christian University\, 3313 State Route 303\, Mayfield\, KY\, 42066\, United States
END:VEVENT
BEGIN:VEVENT
DTSTART;TZID=America/New_York:20260326T180000
DTEND;TZID=America/New_York:20260326T220000
DTSTAMP:20260423T170609
CREATED:20260219T174449Z
LAST-MODIFIED:20260219T174449Z
UID:4147-1774548000-1774562400@summitchristianu.org
SUMMARY:BIB 210 (New Testament) Online
DESCRIPTION:
URL:https://summitchristianu.org/event/bib-210-new-testament-online-2/
LOCATION:Summit Christian University\, 3313 State Route 303\, Mayfield\, KY\, 42066\, United States
END:VEVENT
BEGIN:VEVENT
DTSTART;TZID=America/New_York:20260323T180000
DTEND;TZID=America/New_York:20260323T220000
DTSTAMP:20260423T170609
CREATED:20260120T184126Z
LAST-MODIFIED:20260120T184126Z
UID:4095-1774288800-1774303200@summitchristianu.org
SUMMARY:New Testament - Bible Certificate Class
DESCRIPTION:Screenshot
URL:https://summitchristianu.org/event/new-testament-bible-certificate-class-5/
LOCATION:Heartland Church\, 4777 Alben Barkley Dr.\, KY\, 42001\, United States
END:VEVENT
BEGIN:VEVENT
DTSTART;TZID=America/New_York:20260319T180000
DTEND;TZID=America/New_York:20260319T220000
DTSTAMP:20260423T170609
CREATED:20260219T174241Z
LAST-MODIFIED:20260219T174255Z
UID:4145-1773943200-1773957600@summitchristianu.org
SUMMARY:BIB 210 (New Testament) Online
DESCRIPTION:
URL:https://summitchristianu.org/event/bib-210-new-testament-online/
LOCATION:Summit Christian University\, 3313 State Route 303\, Mayfield\, KY\, 42066\, United States
END:VEVENT
BEGIN:VEVENT
DTSTART;TZID=America/New_York:20260316T180000
DTEND;TZID=America/New_York:20260316T220000
DTSTAMP:20260423T170609
CREATED:20260120T184024Z
LAST-MODIFIED:20260120T184024Z
UID:4093-1773684000-1773698400@summitchristianu.org
SUMMARY:New Testament - Bible Certificate Class
DESCRIPTION:Screenshot
URL:https://summitchristianu.org/event/new-testament-bible-certificate-class-4/
LOCATION:Heartland Church\, 4777 Alben Barkley Dr.\, KY\, 42001\, United States
END:VEVENT
BEGIN:VEVENT
DTSTART;TZID=America/New_York:20260312T180000
DTEND;TZID=America/New_York:20260312T220000
DTSTAMP:20260423T170609
CREATED:20260219T173730Z
LAST-MODIFIED:20260219T173730Z
UID:4137-1773338400-1773352800@summitchristianu.org
SUMMARY:PSY 400
DESCRIPTION:
URL:https://summitchristianu.org/event/psy-400-5/
LOCATION:Summit Christian University\, 3313 State Route 303\, Mayfield\, KY\, 42066\, United States
END:VEVENT
BEGIN:VEVENT
DTSTART;TZID=America/New_York:20260310T180000
DTEND;TZID=America/New_York:20260310T220000
DTSTAMP:20260423T170609
CREATED:20260219T173616Z
LAST-MODIFIED:20260219T173616Z
UID:4135-1773165600-1773180000@summitchristianu.org
SUMMARY:ENG 110
DESCRIPTION:
URL:https://summitchristianu.org/event/eng-110-2/
LOCATION:Summit Christian University\, 3313 State Route 303\, Mayfield\, KY\, 42066\, United States
END:VEVENT
BEGIN:VEVENT
DTSTART;TZID=America/New_York:20260305T180000
DTEND;TZID=America/New_York:20260305T220000
DTSTAMP:20260423T170609
CREATED:20260219T172751Z
LAST-MODIFIED:20260219T172751Z
UID:4127-1772733600-1772748000@summitchristianu.org
SUMMARY:PSY 400
DESCRIPTION:
URL:https://summitchristianu.org/event/psy-400-3/
LOCATION:Summit Christian University\, 3313 State Route 303\, Mayfield\, KY\, 42066\, United States
END:VEVENT
BEGIN:VEVENT
DTSTART;TZID=America/New_York:20260303T180000
DTEND;TZID=America/New_York:20260303T220000
DTSTAMP:20260423T170609
CREATED:20260219T173525Z
LAST-MODIFIED:20260219T173525Z
UID:4133-1772560800-1772575200@summitchristianu.org
SUMMARY:ENG 110
DESCRIPTION:
URL:https://summitchristianu.org/event/eng-110/
LOCATION:Summit Christian University\, 3313 State Route 303\, Mayfield\, KY\, 42066\, United States
END:VEVENT
BEGIN:VEVENT
DTSTART;TZID=America/New_York:20260302T180000
DTEND;TZID=America/New_York:20260302T220000
DTSTAMP:20260423T170609
CREATED:20260120T183935Z
LAST-MODIFIED:20260120T183935Z
UID:4091-1772474400-1772488800@summitchristianu.org
SUMMARY:New Testament - Bible Certificate Class
DESCRIPTION:Screenshot
URL:https://summitchristianu.org/event/new-testament-bible-certificate-class-3/
LOCATION:Heartland Church\, 4777 Alben Barkley Dr.\, KY\, 42001\, United States
END:VEVENT
BEGIN:VEVENT
DTSTART;TZID=America/New_York:20260226T180000
DTEND;TZID=America/New_York:20260226T220000
DTSTAMP:20260423T170609
CREATED:20260219T172547Z
LAST-MODIFIED:20260219T172547Z
UID:4125-1772128800-1772143200@summitchristianu.org
SUMMARY:PSY 400
DESCRIPTION:
URL:https://summitchristianu.org/event/psy-400-2/
LOCATION:Summit Christian University\, 3313 State Route 303\, Mayfield\, KY\, 42066\, United States
END:VEVENT
BEGIN:VEVENT
DTSTART;TZID=America/New_York:20260223T180000
DTEND;TZID=America/New_York:20260223T220000
DTSTAMP:20260423T170609
CREATED:20260120T183810Z
LAST-MODIFIED:20260120T183810Z
UID:4089-1771869600-1771884000@summitchristianu.org
SUMMARY:New Testament - Bible Certificate Class
DESCRIPTION:Screenshot
URL:https://summitchristianu.org/event/new-testament-bible-certificate-class-2/
LOCATION:Heartland Church\, 4777 Alben Barkley Dr.\, KY\, 42001\, United States
END:VEVENT
BEGIN:VEVENT
DTSTART;TZID=America/New_York:20260219T180000
DTEND;TZID=America/New_York:20260219T220000
DTSTAMP:20260423T170609
CREATED:20260219T172436Z
LAST-MODIFIED:20260219T172436Z
UID:4123-1771524000-1771538400@summitchristianu.org
SUMMARY:PSY 400
DESCRIPTION:
URL:https://summitchristianu.org/event/psy-400/
LOCATION:Summit Christian University\, 3313 State Route 303\, Mayfield\, KY\, 42066\, United States
END:VEVENT
BEGIN:VEVENT
DTSTART;TZID=America/New_York:20260219T100000
DTEND;TZID=America/New_York:20260219T120000
DTSTAMP:20260423T170609
CREATED:20260120T184411Z
LAST-MODIFIED:20260120T184411Z
UID:4097-1771495200-1771502400@summitchristianu.org
SUMMARY:SCU Board Meeting
DESCRIPTION:
URL:https://summitchristianu.org/event/scu-board-meeting/
LOCATION:Summit Christian University\, 3313 State Route 303\, Mayfield\, KY\, 42066\, United States
END:VEVENT
BEGIN:VEVENT
DTSTART;TZID=America/New_York:20260216T180000
DTEND;TZID=America/New_York:20260216T220000
DTSTAMP:20260423T170609
CREATED:20260116T221318Z
LAST-MODIFIED:20260116T221318Z
UID:4074-1771264800-1771279200@summitchristianu.org
SUMMARY:New Testament Class
DESCRIPTION:Screenshot
URL:https://summitchristianu.org/event/new-testament-class/
LOCATION:Heartland Church\, 4777 Alben Barkley Dr.\, KY\, 42001\, United States
END:VEVENT
BEGIN:VEVENT
DTSTART;TZID=America/New_York:20260216T080000
DTEND;TZID=America/New_York:20260216T170000
DTSTAMP:20260423T170609
CREATED:20260120T183715Z
LAST-MODIFIED:20260120T183715Z
UID:4087-1771228800-1771261200@summitchristianu.org
SUMMARY:New Testament  - Bible Certificate Class
DESCRIPTION:Screenshot
URL:https://summitchristianu.org/event/new-testament-bible-certificate-class/
LOCATION:Heartland Church\, 4777 Alben Barkley Dr.\, KY\, 42001\, United States
END:VEVENT
BEGIN:VEVENT
DTSTART;TZID=America/New_York:20260209T180000
DTEND;TZID=America/New_York:20260209T220000
DTSTAMP:20260423T170609
CREATED:20260120T183609Z
LAST-MODIFIED:20260120T183609Z
UID:4085-1770660000-1770674400@summitchristianu.org
SUMMARY:Biblical Worldview - Bible Cert. Class
DESCRIPTION:
URL:https://summitchristianu.org/event/biblical-worldview-bible-cert-class-2/
LOCATION:Heartland Church\, 4777 Alben Barkley Dr.\, KY\, 42001\, United States
END:VEVENT
BEGIN:VEVENT
DTSTART;TZID=America/New_York:20260205T190000
DTEND;TZID=America/New_York:20260205T220000
DTSTAMP:20260423T170609
CREATED:20260120T183313Z
LAST-MODIFIED:20260120T183313Z
UID:4081-1770318000-1770328800@summitchristianu.org
SUMMARY:PSY 370
DESCRIPTION:
URL:https://summitchristianu.org/event/psy-370-5/
LOCATION:Summit Christian University\, 3313 State Route 303\, Mayfield\, KY\, 42066\, United States
END:VEVENT
BEGIN:VEVENT
DTSTART;TZID=America/New_York:20260202T180000
DTEND;TZID=America/New_York:20260202T220000
DTSTAMP:20260423T170609
CREATED:20260120T183443Z
LAST-MODIFIED:20260120T183443Z
UID:4083-1770055200-1770069600@summitchristianu.org
SUMMARY:Biblical Worldview - Bible Cert. Class
DESCRIPTION:
URL:https://summitchristianu.org/event/biblical-worldview-bible-cert-class/
LOCATION:Heartland Church\, 4777 Alben Barkley Dr.\, KY\, 42001\, United States
END:VEVENT
BEGIN:VEVENT
DTSTART;TZID=America/New_York:20260129T190000
DTEND;TZID=America/New_York:20260129T220000
DTSTAMP:20260423T170609
CREATED:20260120T183021Z
LAST-MODIFIED:20260120T183021Z
UID:4079-1769713200-1769724000@summitchristianu.org
SUMMARY:PSY 370
DESCRIPTION:
URL:https://summitchristianu.org/event/psy-370-4/
LOCATION:Summit Christian University\, 3313 State Route 303\, Mayfield\, KY\, 42066\, United States
END:VEVENT
BEGIN:VEVENT
DTSTART;TZID=America/New_York:20260122T190000
DTEND;TZID=America/New_York:20260122T220000
DTSTAMP:20260423T170609
CREATED:20260120T182853Z
LAST-MODIFIED:20260120T182853Z
UID:4077-1769108400-1769119200@summitchristianu.org
SUMMARY:PSY 370
DESCRIPTION:
URL:https://summitchristianu.org/event/psy-370-3/
LOCATION:Summit Christian University\, 3313 State Route 303\, Mayfield\, KY\, 42066\, United States
END:VEVENT
BEGIN:VEVENT
DTSTART;TZID=America/New_York:20260119T180000
DTEND;TZID=America/New_York:20260119T220000
DTSTAMP:20260423T170609
CREATED:20260113T192003Z
LAST-MODIFIED:20260113T192003Z
UID:4067-1768845600-1768860000@summitchristianu.org
SUMMARY:Bible Certificate Class
DESCRIPTION:
URL:https://summitchristianu.org/event/bible-certificate-class/
LOCATION:Heartland Church\, 4777 Alben Barkley Dr.\, KY\, 42001\, United States
END:VEVENT
BEGIN:VEVENT
DTSTART;TZID=America/New_York:20260115T190000
DTEND;TZID=America/New_York:20260115T220000
DTSTAMP:20260423T170609
CREATED:20260113T193705Z
LAST-MODIFIED:20260113T193705Z
UID:4072-1768503600-1768514400@summitchristianu.org
SUMMARY:PSY 370
DESCRIPTION:
URL:https://summitchristianu.org/event/psy-370-2/
LOCATION:Summit Christian University\, 3313 State Route 303\, Mayfield\, KY\, 42066\, United States
END:VEVENT
BEGIN:VEVENT
DTSTART;TZID=America/New_York:20260112T180000
DTEND;TZID=America/New_York:20260112T220000
DTSTAMP:20260423T170609
CREATED:20251229T040858Z
LAST-MODIFIED:20260106T174012Z
UID:4060-1768240800-1768255200@summitchristianu.org
SUMMARY:Heartland Church Bible Certificate Class
DESCRIPTION:
URL:https://summitchristianu.org/event/heartland-church-class-2/
LOCATION:Heartland Church\, 4777 Alben Barkley Dr.\, KY\, 42001\, United States
END:VEVENT
BEGIN:VEVENT
DTSTART;TZID=America/New_York:20260108T190000
DTEND;TZID=America/New_York:20260108T220000
DTSTAMP:20260423T170609
CREATED:20260106T175229Z
LAST-MODIFIED:20260106T175229Z
UID:4065-1767898800-1767909600@summitchristianu.org
SUMMARY:PSY 370
DESCRIPTION:
URL:https://summitchristianu.org/event/psy-370/
LOCATION:Summit Christian University\, 3313 State Route 303\, Mayfield\, KY\, 42066\, United States
END:VEVENT
END:VCALENDAR